BEGIN:VCALENDAR
VERSION:2.0
PRODID: -//CMS 5.0 //NONSGML //DE
BEGIN:VEVENT
SUMMARY:Livestream aus der Gemeinde Oppenweiler
DESCRIPTION:<p>Link zu Youtube:&nbsp;<a href="https://youtube.com/live/J
 QgO5zSFAhM?feature=share">https://youtube.com/live/JQgO5zSFAhM?feature=
 share</a></p>\n
UID:268096@www.nak-backnang.de
LOCATION:Oppenweiler
CATEGORIES:Oppenweiler
X-ORGANIZER:
STATUS:CONFIRMED
CLASS:PUBLIC
DTSTART:20260412T073000Z
DTEND:20260412T073000Z
DTSTAMP:20260421T170112Z
CREATED:20221030T100849Z
LAST-MODIFIED:20260330T170312Z
END:VEVENT
BEGIN:VEVENT
SUMMARY:Livestream aus der Gemeinde Oppenweiler
DESCRIPTION:<p><span><span>Link zu Youtube:&nbsp;<a href="https://youtub
 e.com/live/YmAl-1_Gc1Q?feature=share">https://youtube.com/live/YmAl-1_G
 c1Q?feature=share</a></span></span></p>\n
UID:268097@www.nak-backnang.de
LOCATION:Oppenweiler
CATEGORIES:Oppenweiler
X-ORGANIZER:
STATUS:CONFIRMED
CLASS:PUBLIC
DTSTART:20260426T073000Z
DTEND:20260426T073000Z
DTSTAMP:20260421T170112Z
CREATED:20221030T101118Z
LAST-MODIFIED:20260330T170541Z
END:VEVENT
BEGIN:VEVENT
SUMMARY:Livestream aus der Gemeinde Oppenweiler
DESCRIPTION:<p><span><span>Link zu Youtube:&nbsp;<a href="https://youtub
 e.com/live/2fSvLroGISM?feature=share">https://youtube.com/live/2fSvLroG
 ISM?feature=share</a></span></span></p>\n
UID:268100@www.nak-backnang.de
LOCATION:Oppenweiler
CATEGORIES:Oppenweiler
X-ORGANIZER:
STATUS:CONFIRMED
CLASS:PUBLIC
DTSTART:20260408T180000Z
DTEND:20260408T180000Z
DTSTAMP:20260421T170112Z
CREATED:20221030T101606Z
LAST-MODIFIED:20260330T170204Z
END:VEVENT
BEGIN:VEVENT
SUMMARY:Livestream aus der Gemeinde Oppenweiler
DESCRIPTION:<p><span><span>Link zu Youtube:&nbsp;<a href="https://youtub
 e.com/live/w293cj7pVVo?feature=share">https://youtube.com/live/w293cj7p
 VVo?feature=share</a></span></span></p>\n
UID:268102@www.nak-backnang.de
LOCATION:Oppenweiler
CATEGORIES:Oppenweiler
X-ORGANIZER:
STATUS:CONFIRMED
CLASS:PUBLIC
DTSTART:20260429T180000Z
DTEND:20260429T180000Z
DTSTAMP:20260421T170112Z
CREATED:20221030T101803Z
LAST-MODIFIED:20260330T170657Z
END:VEVENT
BEGIN:VEVENT
SUMMARY:Livestream aus der Gemeinde Oppenweiler
DESCRIPTION:<p><span><span>Link zu Youtube:&nbsp;<a href="https://youtub
 e.com/live/rlmkB6YRI9s?feature=share">https://youtube.com/live/rlmkB6YR
 I9s?feature=share</a></span></span></p>\n
UID:277865@www.nak-backnang.de
LOCATION:Oppenweiler
CATEGORIES:Oppenweiler
X-ORGANIZER:
STATUS:CONFIRMED
CLASS:PUBLIC
DTSTART:20260419T073000Z
DTEND:20260419T073000Z
DTSTAMP:20260421T170112Z
CREATED:20230326T100546Z
LAST-MODIFIED:20260330T170437Z
END:VEVENT
BEGIN:VEVENT
SUMMARY:Livestream aus der Gemeinde BK für Oppenweiler
DESCRIPTION:<p>Link zu Youtube:&nbsp;<a href="http://gottesdienst.nak-bk
 .de/">http://gottesdienst.nak-bk.de/</a></p>\n\n<p>Livestream aus der G
 emeinde BK für Oppenweiler.</p>\n\n<p>Die Gemeinde ist in Großaspach&
 nbsp;zum GD eingeladen.</p>\n\n<p>&nbsp;</p>\n
UID:287620@www.nak-backnang.de
LOCATION:Oppenweiler
CATEGORIES:Oppenweiler
X-ORGANIZER:
STATUS:CONFIRMED
CLASS:PUBLIC
DTSTART:20260422T180000Z
DTEND:20260422T180000Z
DTSTAMP:20260421T170112Z
CREATED:20230726T171633Z
LAST-MODIFIED:20260330T171217Z
END:VEVENT
BEGIN:VEVENT
SUMMARY:Livestream aus der Gemeinde BK für Oppenweiler
DESCRIPTION:<p>Link zu Youtube:&nbsp;<a href="http://gottesdienst.nak-bk
 .de/">http://gottesdienst.nak-bk.de/</a></p>\n\n<p>Livestream aus der G
 emeinde BK für Oppenweiler.</p>\n\n<p>Die Gemeinde ist am Do.&nbsp;&nb
 sp;zum GD in der Gemeinde</p>\n\n<p>Kirchberg eingeladen.</p>\n\n<p>&nb
 sp;</p>\n
UID:287621@www.nak-backnang.de
LOCATION:Oppenweiler
CATEGORIES:Oppenweiler
X-ORGANIZER:
STATUS:CONFIRMED
CLASS:PUBLIC
DTSTART:20260325T190000Z
DTEND:20260325T190000Z
DTSTAMP:20260421T170112Z
CREATED:20230726T171735Z
LAST-MODIFIED:20260222T074247Z
END:VEVENT
BEGIN:VEVENT
SUMMARY:Livestream aus der Gemeinde Oppenweiler
DESCRIPTION:<p><span><span>Link zu Youtube:&nbsp;<a href="https://youtub
 e.com/live/pYo_Y1dh798?feature=share">https://youtube.com/live/pYo_Y1dh
 798?feature=share</a></span></span></p>\n
UID:311906@www.nak-backnang.de
LOCATION:Oppenweiler
CATEGORIES:Oppenweiler
X-ORGANIZER:
STATUS:CONFIRMED
CLASS:PUBLIC
DTSTART:20260403T073000Z
DTEND:20260403T073000Z
DTSTAMP:20260421T170112Z
CREATED:20240526T092304Z
LAST-MODIFIED:20260330T165850Z
END:VEVENT
BEGIN:VEVENT
SUMMARY:Livestream aus der Gemeinde BK für Oppenweiler
DESCRIPTION:<p>Link zu Youtube:&nbsp;<a href="http://gottesdienst.nak-bk
 .de/">http://gottesdienst.nak-bk.de/</a></p>\n\n<p>Livestream aus der G
 emeinde BK für Oppenweiler.</p>\n\n<p>Die Gemeinde ist nach&nbsp;Groß
 aspach&nbsp; zum GD eingeladen.</p>\n\n<p>&nbsp;</p>\n
UID:322217@www.nak-backnang.de
LOCATION:Oppenweiler
CATEGORIES:Oppenweiler
X-ORGANIZER:
STATUS:CONFIRMED
CLASS:PUBLIC
DTSTART:20260415T180000Z
DTEND:20260415T180000Z
DTSTAMP:20260421T170112Z
CREATED:20241009T191146Z
LAST-MODIFIED:20260330T171133Z
END:VEVENT
BEGIN:VEVENT
SUMMARY:Gottesdienst mit Bez.Ap. Ehrich via Livestream aus Kempten
DESCRIPTION:<p>Link zum&nbsp;Livestream via Youtube:&nbsp;<a href="https
 ://www.youtube.com/live/3qF-9cnc0ao">https://www.youtube.com/live/3qF-9
 cnc0ao</a></p>\n
UID:347986@www.nak-backnang.de
LOCATION:Übertragung in alle Empfangsgemeinden
CATEGORIES:Oppenweiler
X-ORGANIZER:
STATUS:CONFIRMED
CLASS:PUBLIC
DTSTART:20260405T080000Z
DTEND:20260405T100000Z
DTSTAMP:20260421T170112Z
CREATED:20250927T160341Z
LAST-MODIFIED:20260403T053111Z
END:VEVENT
BEGIN:VEVENT
SUMMARY:Sommerferienfreizeit "Camp of Happiness"
DESCRIPTION:<p>Auch in diesem Jahr findet die Teenie-Freizeit der Bezirk
 e Schwäbisch Hall und Backnang statt - und zwar vom 16. bis 22. August
  2026. Es wird eine Woche voller Spiel, Spaß und guter Laune geboten!<
 /p>\n\n<p>Wie üblich verbringen die Teenies und ihre Betreuer die Woch
 e im&nbsp;Sportjugendlager Karl-Hermann Müller&nbsp;in Beimbach (Rot a
 m See). Eingeladen sind alle Teenies zwischen 11 und 15 Jahren.&nbsp;</
 p>\n\n<p>Hier geht´s zu weiteren Informationen:&nbsp;<a href="https://
 www.nak-backnang.de/dbc/1641265/361246/Anmeldung-zur-Sommerferienfreize
 it-Camp-of-Happiness-gestartet">Anmeldung zur Sommerferienfreizeit "Cam
 p of Happiness" gestartet!</a></p>\n
UID:361248@www.nak-backnang.de
LOCATION:Beimbach (Rot am See)
CATEGORIES:Bezirk (und alle Gemeinden)
X-ORGANIZER:
STATUS:CONFIRMED
CLASS:PUBLIC
DTSTART;VALUE=DATE:20260816
DTEND;VALUE=DATE:20260817
DTSTAMP:20260421T170112Z
CREATED:20260315T201127Z
LAST-MODIFIED:20260317T081536Z
END:VEVENT
BEGIN:VEVENT
SUMMARY:Gottesdienst mit Bezirksapostel Ehrich (Livestream aus Kempten)
DESCRIPTION:<p>Bezirksapostel Michael Ehrich führt am Ostersonntag, 5. 
 April 2026, einen Gottesdienst in der Kirche in Kempten-Süd durch, der
  in den gesamten Arbeitsbereich des Bezirksapostels übertragen wird. G
 ottesdienstbeginn ist um 10:00 Uhr.</p>\n\n<p>Zusätzlich zur Übertrag
 ung in die Kirchen wird der Gottesdienst als Livestream auf dem YouTube
 -Kanal der Gebietskirche gesendet.</p>\n\n<p>Link zum&nbsp;Livestream v
 ia Youtube: <a href="https://gottesdienst.nak-bk.de">https://gottesdien
 st.nak-bk.de</a>&nbsp;oder&nbsp;<a href="https://www.youtube.com/live/3
 qF-9cnc0ao">https://www.youtube.com/live/3qF-9cnc0ao</a></p>\n
UID:361249@www.nak-backnang.de
LOCATION:Übertragungsgemeinden und YouTube
CATEGORIES:Bezirk (und alle Gemeinden)
X-ORGANIZER:
STATUS:CONFIRMED
CLASS:PUBLIC
DTSTART:20260405T080000Z
DTEND:20260405T080000Z
DTSTAMP:20260421T170112Z
CREATED:20260315T201425Z
LAST-MODIFIED:20260403T201009Z
END:VEVENT
BEGIN:VEVENT
SUMMARY:Konfirmationsgottesdienst (Livestream aus Murrhardt)
DESCRIPTION:<p>Der&nbsp;Konfirmationsgottesdienst&nbsp;in Murrhardt am 1
 2.04.2026 wird per Livestream&nbsp;nach Aspach, Gaildorf, Sulzbach und 
 Wüstenrot übertragen.</p>\n\n<p>Link zum&nbsp;Livestream via Youtube:
  <a href="https://nak-wuestenrot.net/">https://nak-wuestenrot.net/</a><
 /p>\n
UID:361250@www.nak-backnang.de
LOCATION:Murrhardt
CATEGORIES:Murrhardt,Gaildorf,Aspach,Wüstenrot,Bezirk (ohne Gemeinden),Sulzbach/Murr
X-ORGANIZER:
STATUS:CONFIRMED
CLASS:PUBLIC
DTSTART:20260412T073000Z
DTEND:20260412T073000Z
DTSTAMP:20260421T170112Z
CREATED:20260315T201550Z
LAST-MODIFIED:20260317T080559Z
END:VEVENT
BEGIN:VEVENT
SUMMARY:Jugendgottesdienst mit Pr. Häußermann
DESCRIPTION:<p>Link zum&nbsp;Livestream via Youtube: <a href="https://ja
 -bk.de/live">https://ja-bk.de/live</a></p>\n
UID:361251@www.nak-backnang.de
LOCATION:Wüstenrot
CATEGORIES:Bezirk (und alle Gemeinden)
X-ORGANIZER:
STATUS:CONFIRMED
CLASS:PUBLIC
DTSTART:20260419T080000Z
DTEND:20260419T080000Z
DTSTAMP:20260421T170112Z
CREATED:20260315T201709Z
LAST-MODIFIED:20260317T080941Z
END:VEVENT
BEGIN:VEVENT
SUMMARY:Gottesdienste an Palmsonntag
DESCRIPTION:
UID:361252@www.nak-backnang.de
LOCATION:alle Gemeinden
CATEGORIES:Bezirk (und alle Gemeinden)
X-ORGANIZER:
STATUS:CONFIRMED
CLASS:PUBLIC
DTSTART:20260329T073000Z
DTEND:20260329T073000Z
DTSTAMP:20260421T170112Z
CREATED:20260315T201929Z
LAST-MODIFIED:20260317T080024Z
END:VEVENT
BEGIN:VEVENT
SUMMARY:Gottesdienst mit Stammapostel Schneider (Livestream aus Tafelsig
 , Südafrika)
DESCRIPTION:<p>Stammapostel Jean-Luc Schneider führt am Pfingstsonntag,
  24. Mai 2026, den Gottesdienst in Tafelsig (Südafrika)&nbsp;durch, de
 r weltweit in Kirchengemeinden übertragen wird. Gottesdienstbeginn ist
  um 10:00 Uhr.</p>\n\n<p>Zusätzlich zur Übertragung in die Kirchen wi
 rd der Gottesdienst als Livestream auf dem YouTube-Kanal der Gebietskir
 che gesendet.</p>\n\n<p>Link zum&nbsp;Livestream via Youtube: <a href="
 https://gottesdienst.nak-bk.de">https://gottesdienst.nak-bk.de</a></p>\
 n\n<p>&nbsp;</p>\n
UID:361253@www.nak-backnang.de
LOCATION:Übertragungsgemeinden und YouTube
CATEGORIES:Bezirk (und alle Gemeinden)
X-ORGANIZER:
STATUS:CONFIRMED
CLASS:PUBLIC
DTSTART:20260524T080000Z
DTEND:20260524T080000Z
DTSTAMP:20260421T170112Z
CREATED:20260315T202016Z
LAST-MODIFIED:20260317T081416Z
END:VEVENT
BEGIN:VEVENT
SUMMARY:Gottesdienst mit Stammapostel (Livestream aus Karlsruhe)
DESCRIPTION:<p>Der Stammapostel führt am Sonntag, 21. Juni 2026, einen 
 Gottesdienst in der Kirche in Karlsruhe-Mitte durch, der in den Arbeits
 bereich des Bezirksapostels Michael Ehrich übertragen wird. Gottesdien
 stbeginn ist um 10:00 Uhr.</p>\n\n<p>Zusätzlich zur Übertragung in di
 e Kirchen wird der Gottesdienst als Livestream auf dem YouTube-Kanal de
 r Gebietskirche gesendet.</p>\n\n<p>Link zum&nbsp;Livestream via Youtub
 e: <a href="https://gottesdienst.nak-bk.de">https://gottesdienst.nak-bk
 .de</a></p>\n\n<p>&nbsp;</p>\n
UID:361254@www.nak-backnang.de
LOCATION:Übertragungsgemeinden und YouTube
CATEGORIES:Bezirk (und alle Gemeinden)
X-ORGANIZER:
STATUS:CONFIRMED
CLASS:PUBLIC
DTSTART:20260621T080000Z
DTEND:20260621T080000Z
DTSTAMP:20260421T170112Z
CREATED:20260315T202201Z
LAST-MODIFIED:20260317T081334Z
END:VEVENT
BEGIN:VEVENT
SUMMARY:Gottesdienst mit Bezirksapostel (Livestream aus Albstadt)
DESCRIPTION:<p>Der Bezirksapostel&nbsp;führt am Sonntag, 26. Juli&nbsp;
 2026, einen Gottesdienst in der Kirche in Albstadt durch, der in den ge
 samten Arbeitsbereich des Bezirksapostels übertragen wird. Gottesdiens
 tbeginn ist um 10:00 Uhr.</p>\n\n<p>Zusätzlich zur Übertragung in die
  Kirchen wird der Gottesdienst als Livestream auf dem YouTube-Kanal der
  Gebietskirche gesendet.</p>\n\n<p>Link zum&nbsp;Livestream via Youtube
 : <a href="https://gottesdienst.nak-bk.de">https://gottesdienst.nak-bk.
 de</a></p>\n\n<p>&nbsp;</p>\n
UID:361255@www.nak-backnang.de
LOCATION:Übertragungsgemeinden und YouTube
CATEGORIES:Bezirk (und alle Gemeinden)
X-ORGANIZER:
STATUS:CONFIRMED
CLASS:PUBLIC
DTSTART:20260726T080000Z
DTEND:20260726T080000Z
DTSTAMP:20260421T170112Z
CREATED:20260315T202310Z
LAST-MODIFIED:20260317T081515Z
END:VEVENT
BEGIN:VEVENT
SUMMARY:Gottesdienst mit Stammapostel (Livestream aus Tuttlingen)
DESCRIPTION:<p>Der Stammapostel führt am Sonntag, 1. November 2026, ein
 en Gottesdienst in der Kirche in Tuttlingen durch, der in den europäis
 chen Arbeitsbereich des Bezirksapostels übertragen wird. Gottesdienstb
 eginn ist um 10:00 Uhr.</p>\n\n<p>Zusätzlich zur Übertragung in die K
 irchen wird der Gottesdienst als Livestream auf dem YouTube-Kanal der G
 ebietskirche gesendet.</p>\n\n<p>Link zum&nbsp;Livestream via Youtube: 
 <a href="https://gottesdienst.nak-bk.de​">https://gottesdienst.nak-bk
 .de​</a>​​​​​​</p>\n
UID:361256@www.nak-backnang.de
LOCATION:Übertragungsgemeinden und YouTube
CATEGORIES:Bezirk (und alle Gemeinden)
X-ORGANIZER:
STATUS:CONFIRMED
CLASS:PUBLIC
DTSTART:20261101T090000Z
DTEND:20261101T090000Z
DTSTAMP:20260421T170112Z
CREATED:20260315T202345Z
LAST-MODIFIED:20260317T081716Z
END:VEVENT
BEGIN:VEVENT
SUMMARY:Seniorengottesdienst mit Bischof Metzger
DESCRIPTION:
UID:361259@www.nak-backnang.de
LOCATION:Unterbrüden
CATEGORIES:Bezirk (und alle Gemeinden)
X-ORGANIZER:
STATUS:CONFIRMED
CLASS:PUBLIC
DTSTART:20260607T073000Z
DTEND:20260607T073000Z
DTSTAMP:20260421T170112Z
CREATED:20260315T203046Z
LAST-MODIFIED:20260415T085738Z
END:VEVENT
BEGIN:VEVENT
SUMMARY:Kinderfreizeit Mönchhof Kaisersbach
DESCRIPTION:
UID:361260@www.nak-backnang.de
LOCATION:Kaisersbach
CATEGORIES:Bezirk (und alle Gemeinden)
X-ORGANIZER:
STATUS:CONFIRMED
CLASS:PUBLIC
DTSTART;VALUE=DATE:20260717
DTEND;VALUE=DATE:20260718
DTSTAMP:20260421T170112Z
CREATED:20260315T203132Z
LAST-MODIFIED:20260317T081525Z
END:VEVENT
BEGIN:VEVENT
SUMMARY:Gottesdienst mit Bezirksapostel
DESCRIPTION:<p>Link zum&nbsp;Livestream via Youtube: <a href="https://go
 ttesdienst.nak-bk.de">https://gottesdienst.nak-bk.de</a></p>\n
UID:361261@www.nak-backnang.de
LOCATION:Backnang
CATEGORIES:Bezirk (und alle Gemeinden)
X-ORGANIZER:
STATUS:CONFIRMED
CLASS:PUBLIC
DTSTART:20260826T180000Z
DTEND:20260826T180000Z
DTSTAMP:20260421T170112Z
CREATED:20260315T203317Z
LAST-MODIFIED:20260317T081631Z
END:VEVENT
BEGIN:VEVENT
SUMMARY:Kirchencafe nach dem Gottesdienst
DESCRIPTION:
UID:363902@www.nak-backnang.de
LOCATION:Lippoldsweiler
CATEGORIES:Auenwald-Lippoldsweiler
X-ORGANIZER:
STATUS:CONFIRMED
CLASS:PUBLIC
DTSTART:20260426T083000Z
DTEND:20260426T083000Z
DTSTAMP:20260421T170112Z
CREATED:20260420T093407Z
LAST-MODIFIED:20260420T093811Z
END:VEVENT
BEGIN:VEVENT
SUMMARY:Gartenarbeit
DESCRIPTION:
UID:363904@www.nak-backnang.de
LOCATION:Lippoldsweiler
CATEGORIES:Auenwald-Lippoldsweiler
X-ORGANIZER:
STATUS:CONFIRMED
CLASS:PUBLIC
DTSTART:20260425T080000Z
DTEND:20260425T080000Z
DTSTAMP:20260421T170112Z
CREATED:20260420T093823Z
LAST-MODIFIED:20260420T093855Z
END:VEVENT
BEGIN:VEVENT
SUMMARY:Treffen der Reli-Schüler mit den Lehrkräften
DESCRIPTION:
UID:363905@www.nak-backnang.de
LOCATION:Lippoldsweiler
CATEGORIES:Auenwald-Lippoldsweiler
X-ORGANIZER:
STATUS:CONFIRMED
CLASS:PUBLIC
DTSTART:20260425T130000Z
DTEND:20260425T130000Z
DTSTAMP:20260421T170112Z
CREATED:20260420T093915Z
LAST-MODIFIED:20260420T094003Z
END:VEVENT
END:VCALENDAR
